BEGIN:VCALENDAR
VERSION:2.0
PRODID:-//Lower Cape Fear Young Republicans - ECPv6.0.12//NONSGML v1.0//EN
CALSCALE:GREGORIAN
METHOD:PUBLISH
X-WR-CALNAME:Lower Cape Fear Young Republicans
X-ORIGINAL-URL:https://lcfyr.org
X-WR-CALDESC:Events for Lower Cape Fear Young Republicans
REFRESH-INTERVAL;VALUE=DURATION:PT1H
X-Robots-Tag:noindex
X-PUBLISHED-TTL:PT1H
BEGIN:VTIMEZONE
TZID:America/New_York
BEGIN:DAYLIGHT
TZOFFSETFROM:-0500
TZOFFSETTO:-0400
TZNAME:EDT
DTSTART:20220313T070000
END:DAYLIGHT
BEGIN:STANDARD
TZOFFSETFROM:-0400
TZOFFSETTO:-0500
TZNAME:EST
DTSTART:20221106T060000
END:STANDARD
END:VTIMEZONE
BEGIN:VEVENT
DTSTART;TZID=America/New_York:20220827T090000
DTEND;TZID=America/New_York:20220827T140000
DTSTAMP:20260421T103917
CREATED:20220818T221248Z
LAST-MODIFIED:20220818T221338Z
UID:1042-1661590800-1661608800@lcfyr.org
SUMMARY:NCFYR Day of Action – Southeastern North Carolina
DESCRIPTION:Join NCFYR and LCFYR for a day of door knocking supporting John Hinnant (NC House 18)\, Ted Davis (NC House 20)\, Michael Lee (NC Senate 9)\, Congressman David Rouzer and Ted Budd for US Senate in New Hanover County.\n\nSign up to volunteer using this link: https://lcfyr.org/DayOfAction22\n\nLocation: NHC GOP HQ (829 South Kerr Avenue Wilmington\, NC)\n\nDETAILS\n9 AM – Coffee and Donuts\n9:30 AM – Travel to Knock Location
URL:https://lcfyr.org/event/ncfyr-day-of-action-southeastern-north-carolina/
LOCATION:New Hanover County GOP HQ\, 829 South Kerr Ave\, Wilmington\, NY\, 28403\, United States
CATEGORIES:Volunteer
ATTACH;FMTTYPE=image/jpeg:https://lcfyr.org/wp-content/uploads/2022/08/LCFYR_DOA_8-27-22.jpg
END:VEVENT
END:VCALENDAR