BEGIN:VCALENDAR
VERSION:2.0
PRODID:-//Lower Cape Fear Young Republicans - ECPv6.0.12//NONSGML v1.0//EN
CALSCALE:GREGORIAN
METHOD:PUBLISH
X-ORIGINAL-URL:https://lcfyr.org
X-WR-CALDESC:Events for Lower Cape Fear Young Republicans
REFRESH-INTERVAL;VALUE=DURATION:PT1H
X-Robots-Tag:noindex
X-PUBLISHED-TTL:PT1H
BEGIN:VTIMEZONE
TZID:America/New_York
BEGIN:DAYLIGHT
TZOFFSETFROM:-0500
TZOFFSETTO:-0400
TZNAME:EDT
DTSTART:20210314T070000
END:DAYLIGHT
BEGIN:STANDARD
TZOFFSETFROM:-0400
TZOFFSETTO:-0500
TZNAME:EST
DTSTART:20211107T060000
END:STANDARD
END:VTIMEZONE
BEGIN:VEVENT
DTSTART;TZID=America/New_York:20210913T183000
DTEND;TZID=America/New_York:20210913T200000
DTSTAMP:20260422T031413
CREATED:20210908T210332Z
LAST-MODIFIED:20210908T210332Z
UID:1015-1631557800-1631563200@lcfyr.org
SUMMARY:YR Social with Catherine Whiteford
DESCRIPTION:Join the Lower Cape Fear Young Republicans on Monday\, September 13th at Ironclad Brewery at 6:30 PM for a social with the North Carolina Federation of Young Republicans Chairwomen Catherine Whiteford.\n\nThis event is open to everyone. Stop by have a beer and socialize with the next generation of Republican leaders!
URL:https://lcfyr.org/event/yr-social-with-catherine-whiteford/
LOCATION:Ironclad Brewery\, 115 North 2nd Street\, Wilmington\, NC\, 28401\, United States
CATEGORIES:Meetings
ATTACH;FMTTYPE=image/jpeg:https://lcfyr.org/wp-content/uploads/2021/09/September-Social.jpg
END:VEVENT
END:VCALENDAR