BEGIN:VCALENDAR
VERSION:2.0
PRODID:-//Lower Cape Fear Young Republicans - ECPv6.0.12//NONSGML v1.0//EN
CALSCALE:GREGORIAN
METHOD:PUBLISH
X-ORIGINAL-URL:https://lcfyr.org
X-WR-CALDESC:Events for Lower Cape Fear Young Republicans
REFRESH-INTERVAL;VALUE=DURATION:PT1H
X-Robots-Tag:noindex
X-PUBLISHED-TTL:PT1H
BEGIN:VTIMEZONE
TZID:America/New_York
BEGIN:DAYLIGHT
TZOFFSETFROM:-0500
TZOFFSETTO:-0400
TZNAME:EDT
DTSTART:20210314T070000
END:DAYLIGHT
BEGIN:STANDARD
TZOFFSETFROM:-0400
TZOFFSETTO:-0500
TZNAME:EST
DTSTART:20211107T060000
END:STANDARD
END:VTIMEZONE
BEGIN:VEVENT
DTSTART;TZID=America/New_York:20210422T183000
DTEND;TZID=America/New_York:20210422T193000
DTSTAMP:20260421T083159
CREATED:20210414T221340Z
LAST-MODIFIED:20210414T221340Z
UID:999-1619116200-1619119800@lcfyr.org
SUMMARY:Lower Cape Fear Young Republicans April Meeting & Earth Day Celebration
DESCRIPTION:Join the Lower Cape Fear Young Republicans for our April Meeting and Earth Day Celebration. We will be dispelling the myths that Republican’s don’t care about the environment.\n\nOur April meeting will take place at Fox & Hound at 6:30pm in the patio on Thursday\, April 22nd. YOU DO NOT NEED TO BE A MEMBER TO ATTEND!\n\nYearly dues are $10 year and will be accepted at the meeting or online at https://lcfyr.org/membership-join/
URL:https://lcfyr.org/event/lower-cape-fear-young-republicans-april-meeting-earth-day-celebration/
LOCATION:Fox & Hound\, 920 Town Center Dr\, Wilmington\, NC\, 28405\, United States
CATEGORIES:Meetings
ATTACH;FMTTYPE=image/jpeg:https://lcfyr.org/wp-content/uploads/2021/04/April_2021.jpg
END:VEVENT
END:VCALENDAR