BEGIN:VCALENDAR
VERSION:2.0
PRODID:-//Lower Cape Fear Young Republicans - ECPv6.0.12//NONSGML v1.0//EN
CALSCALE:GREGORIAN
METHOD:PUBLISH
X-ORIGINAL-URL:https://lcfyr.org
X-WR-CALDESC:Events for Lower Cape Fear Young Republicans
REFRESH-INTERVAL;VALUE=DURATION:PT1H
X-Robots-Tag:noindex
X-PUBLISHED-TTL:PT1H
BEGIN:VTIMEZONE
TZID:UTC
BEGIN:STANDARD
TZOFFSETFROM:+0000
TZOFFSETTO:+0000
TZNAME:UTC
DTSTART:20230101T000000
END:STANDARD
END:VTIMEZONE
BEGIN:VEVENT
DTSTART;TZID=UTC:20230125T183000
DTEND;TZID=UTC:20230125T200000
DTSTAMP:20260421T052625
CREATED:20230119T001301Z
LAST-MODIFIED:20230119T001301Z
UID:1049-1674671400-1674676800@lcfyr.org
SUMMARY:Lower Cape Fear Young Republicans January Social
DESCRIPTION:Our January Social will take place at Flying Machine Brewing Company at 6:30pm on Wednesday\, Jan 25th. \nWe will discuss Young Republican successes in North Carolina during the midterm elections\, plus we will hear from the State Young Republican Secretary. \nYOU DO NOT NEED TO BE A MEMBER TO ATTEND! \nYearly dues are $10 year and will be accepted at the meeting via cash or Venmo.
URL:https://lcfyr.org/event/lower-cape-fear-young-republicans-january-social/
LOCATION:Flying Machine Brewing Company\, 3130 Randall Parkway\, Wilmington
CATEGORIES:Meetings
ATTACH;FMTTYPE=image/jpeg:https://lcfyr.org/wp-content/uploads/2023/01/January-2023.jpg
END:VEVENT
END:VCALENDAR