BEGIN:VCALENDAR
VERSION:2.0
PRODID:-//Lower Cape Fear Young Republicans - ECPv6.0.12//NONSGML v1.0//EN
CALSCALE:GREGORIAN
METHOD:PUBLISH
X-ORIGINAL-URL:https://lcfyr.org
X-WR-CALDESC:Events for Lower Cape Fear Young Republicans
REFRESH-INTERVAL;VALUE=DURATION:PT1H
X-Robots-Tag:noindex
X-PUBLISHED-TTL:PT1H
BEGIN:VTIMEZONE
TZID:UTC
BEGIN:STANDARD
TZOFFSETFROM:+0000
TZOFFSETTO:+0000
TZNAME:UTC
DTSTART:20220101T000000
END:STANDARD
END:VTIMEZONE
BEGIN:VEVENT
DTSTART;TZID=UTC:20220727T183000
DTEND;TZID=UTC:20220727T193000
DTSTAMP:20260421T133437
CREATED:20220719T004751Z
LAST-MODIFIED:20220719T004751Z
UID:1033-1658946600-1658950200@lcfyr.org
SUMMARY:Lower Cape Fear Young Republicans July Meeting
DESCRIPTION:Join the Lower Cape Fear Young Republicans for our July Meeting.\n\nOur July meeting will take place at Broomtail Brewing and Arcade at 6:30pm on Wednesday\, July 27th. We will get an update from our state Young Republican Secretary.\n\nYOU DO NOT NEED TO BE A MEMBER TO ATTEND!\n\nYearly dues are $10 year and will be accepted at the meeting
URL:https://lcfyr.org/event/lower-cape-fear-young-republicans-july-meeting-2/
LOCATION:Broomtail Pub & Arcade\, 7211 Market Street\, Wilmington\, NC\, 28411\, United States
CATEGORIES:Meetings
ATTACH;FMTTYPE=image/jpeg:https://lcfyr.org/wp-content/uploads/2022/07/July-2022.jpg
END:VEVENT
END:VCALENDAR