BEGIN:VCALENDAR
VERSION:2.0
PRODID:-//Lower Cape Fear Young Republicans - ECPv6.0.12//NONSGML v1.0//EN
CALSCALE:GREGORIAN
METHOD:PUBLISH
X-WR-CALNAME:Lower Cape Fear Young Republicans
X-ORIGINAL-URL:https://lcfyr.org
X-WR-CALDESC:Events for Lower Cape Fear Young Republicans
REFRESH-INTERVAL;VALUE=DURATION:PT1H
X-Robots-Tag:noindex
X-PUBLISHED-TTL:PT1H
BEGIN:VTIMEZONE
TZID:America/New_York
BEGIN:DAYLIGHT
TZOFFSETFROM:-0500
TZOFFSETTO:-0400
TZNAME:EDT
DTSTART:20220313T070000
END:DAYLIGHT
BEGIN:STANDARD
TZOFFSETFROM:-0400
TZOFFSETTO:-0500
TZNAME:EST
DTSTART:20221106T060000
END:STANDARD
END:VTIMEZONE
BEGIN:VEVENT
DTSTART;TZID=America/New_York:20220512T183000
DTEND;TZID=America/New_York:20220512T193000
DTSTAMP:20260421T163714
CREATED:20220505T235152Z
LAST-MODIFIED:20220505T235152Z
UID:1020-1652380200-1652383800@lcfyr.org
SUMMARY:Lower Cape Fear Young Republicans May Meeting - Primary 2022
DESCRIPTION:Join the Lower Cape Fear Young Republicans for our May Meeting.\nOur May meeting will take place at the NHC GOP HQ at 6:30pm on Thursday\, May 12th.\nYOU DO NOT NEED TO BE A MEMBER TO ATTEND!\nYearly dues are $10 year and will be accepted at the meeting or online at https://lcfyr.org/membership-join/\n 
URL:https://lcfyr.org/event/lower-cape-fear-young-republicans-may-meeting-primary-2022/
LOCATION:New Hanover County GOP HQ\, 829 South Kerr Ave\, Wilmington\, NY\, 28403\, United States
CATEGORIES:Meetings
ATTACH;FMTTYPE=image/jpeg:https://lcfyr.org/wp-content/uploads/2022/05/May-2022-Meeting.jpg
END:VEVENT
END:VCALENDAR