BEGIN:VCALENDAR
VERSION:2.0
PRODID:-//Lower Cape Fear Young Republicans - ECPv6.0.12//NONSGML v1.0//EN
CALSCALE:GREGORIAN
METHOD:PUBLISH
X-ORIGINAL-URL:https://lcfyr.org
X-WR-CALDESC:Events for Lower Cape Fear Young Republicans
REFRESH-INTERVAL;VALUE=DURATION:PT1H
X-Robots-Tag:noindex
X-PUBLISHED-TTL:PT1H
BEGIN:VTIMEZONE
TZID:America/New_York
BEGIN:DAYLIGHT
TZOFFSETFROM:-0500
TZOFFSETTO:-0400
TZNAME:EDT
DTSTART:20210314T070000
END:DAYLIGHT
BEGIN:STANDARD
TZOFFSETFROM:-0400
TZOFFSETTO:-0500
TZNAME:EST
DTSTART:20211107T060000
END:STANDARD
END:VTIMEZONE
BEGIN:VEVENT
DTSTART;TZID=America/New_York:20210318T183000
DTEND;TZID=America/New_York:20210318T193000
DTSTAMP:20260422T130704
CREATED:20210228T162932Z
LAST-MODIFIED:20210228T163413Z
UID:976-1616092200-1616095800@lcfyr.org
SUMMARY:March Meeting & Election
DESCRIPTION:Our March meeting will take place at Fox & Hound at 6:30pm in the patio area on the right side of the bar on Thursday\, March 18th. YOU DO NOT NEED TO BE A MEMBER TO ATTEND! \nThis meeting will also serve as our bi-yearly election. Chairman\, Vicechair\, Treasure\, and Secretary are all up. To take part in the election process you must be an active dues paying member. I will have a list of active members at the meeting. Dues are $10 a year and will be accepted at the meeting.
URL:https://lcfyr.org/event/march-meeting-election/
LOCATION:Fox & Hound\, 920 Town Center Dr\, Wilmington\, NC\, 28405\, United States
CATEGORIES:Meetings
ATTACH;FMTTYPE=image/jpeg:https://lcfyr.org/wp-content/uploads/2021/02/March-2021-Meeting-Template.jpg
END:VEVENT
END:VCALENDAR