BEGIN:VCALENDAR
VERSION:2.0
PRODID:-//Lower Cape Fear Young Republicans - ECPv6.0.12//NONSGML v1.0//EN
CALSCALE:GREGORIAN
METHOD:PUBLISH
X-WR-CALNAME:Lower Cape Fear Young Republicans
X-ORIGINAL-URL:https://lcfyr.org
X-WR-CALDESC:Events for Lower Cape Fear Young Republicans
REFRESH-INTERVAL;VALUE=DURATION:PT1H
X-Robots-Tag:noindex
X-PUBLISHED-TTL:PT1H
BEGIN:VTIMEZONE
TZID:America/New_York
BEGIN:DAYLIGHT
TZOFFSETFROM:-0500
TZOFFSETTO:-0400
TZNAME:EDT
DTSTART:20200308T070000
END:DAYLIGHT
BEGIN:STANDARD
TZOFFSETFROM:-0400
TZOFFSETTO:-0500
TZNAME:EST
DTSTART:20201101T060000
END:STANDARD
END:VTIMEZONE
BEGIN:VEVENT
DTSTART;TZID=America/New_York:20200730T183000
DTEND;TZID=America/New_York:20200730T193000
DTSTAMP:20260422T234918
CREATED:20200725T125436Z
LAST-MODIFIED:20200725T125436Z
UID:958-1596133800-1596137400@lcfyr.org
SUMMARY:Lower Cape Fear Young Republicans July Meeting
DESCRIPTION:Our July meeting will take place IN PERSON this Thursday (7/30) at 6:30 pm. We will be giving updates on some of the latest news and events for Young Republicans in New Hanover and Pender counties! \nIncluding our 100 day plan leading up to election day. Obviously with ongoing COVID concerns please feel free to wear a mask or do anything else to make yourself feel comfortable. \nThe meeting will be Thursday\, July 30\, at 6:30 pm at the New Hanover County GOP HQ (2808 Market Street Wilmington\, NC 28403).
URL:https://lcfyr.org/event/lower-cape-fear-young-republicans-july-meeting/
LOCATION:New Hanover County GOP HQ\, 829 South Kerr Ave\, Wilmington\, NY\, 28403\, United States
CATEGORIES:Meetings
ATTACH;FMTTYPE=image/jpeg:https://lcfyr.org/wp-content/uploads/2020/07/July-Meeting-Template.jpg
END:VEVENT
END:VCALENDAR